BEGIN:VCALENDAR
VERSION:2.0
PRODID:-//Sisters of Saints Cyril and Methodius - ECPv6.15.17//NONSGML v1.0//EN
CALSCALE:GREGORIAN
METHOD:PUBLISH
X-WR-CALNAME:Sisters of Saints Cyril and Methodius
X-ORIGINAL-URL:https://sscm.org
X-WR-CALDESC:Events for Sisters of Saints Cyril and Methodius
REFRESH-INTERVAL;VALUE=DURATION:PT1H
X-Robots-Tag:noindex
X-PUBLISHED-TTL:PT1H
BEGIN:VTIMEZONE
TZID:America/New_York
BEGIN:DAYLIGHT
TZOFFSETFROM:-0500
TZOFFSETTO:-0400
TZNAME:EDT
DTSTART:20240310T070000
END:DAYLIGHT
BEGIN:STANDARD
TZOFFSETFROM:-0400
TZOFFSETTO:-0500
TZNAME:EST
DTSTART:20241103T060000
END:STANDARD
BEGIN:DAYLIGHT
TZOFFSETFROM:-0500
TZOFFSETTO:-0400
TZNAME:EDT
DTSTART:20250309T070000
END:DAYLIGHT
BEGIN:STANDARD
TZOFFSETFROM:-0400
TZOFFSETTO:-0500
TZNAME:EST
DTSTART:20251102T060000
END:STANDARD
BEGIN:DAYLIGHT
TZOFFSETFROM:-0500
TZOFFSETTO:-0400
TZNAME:EDT
DTSTART:20260308T070000
END:DAYLIGHT
BEGIN:STANDARD
TZOFFSETFROM:-0400
TZOFFSETTO:-0500
TZNAME:EST
DTSTART:20261101T060000
END:STANDARD
BEGIN:DAYLIGHT
TZOFFSETFROM:-0500
TZOFFSETTO:-0400
TZNAME:EDT
DTSTART:20270314T070000
END:DAYLIGHT
BEGIN:STANDARD
TZOFFSETFROM:-0400
TZOFFSETTO:-0500
TZNAME:EST
DTSTART:20271107T060000
END:STANDARD
END:VTIMEZONE
BEGIN:VEVENT
DTSTART;VALUE=DATE:20260218
DTEND;VALUE=DATE:20260219
DTSTAMP:20260423T071011
CREATED:20251010T173819Z
LAST-MODIFIED:20251010T173819Z
UID:37699-1771372800-1771459199@sscm.org
SUMMARY:Ash Wednesday
DESCRIPTION:
URL:https://sscm.org/event/ash-wednesday/
LOCATION:Villa Sacred Heart\, Danville
CATEGORIES:General Events 2025-2026
END:VEVENT
BEGIN:VEVENT
DTSTART;VALUE=DATE:20260214
DTEND;VALUE=DATE:20260215
DTSTAMP:20260423T071011
CREATED:20251010T173748Z
LAST-MODIFIED:20251010T173748Z
UID:37697-1771027200-1771113599@sscm.org
SUMMARY:Feast of Saints Cyril and Methodius
DESCRIPTION:
URL:https://sscm.org/event/feast-of-saints-cyril-and-methodius/
CATEGORIES:General Events 2025-2026
END:VEVENT
BEGIN:VEVENT
DTSTART;VALUE=DATE:20260202
DTEND;VALUE=DATE:20260203
DTSTAMP:20260423T071011
CREATED:20251010T142238Z
LAST-MODIFIED:20251010T142238Z
UID:37693-1769990400-1770076799@sscm.org
SUMMARY:World Day of Consecrated Life
DESCRIPTION:
URL:https://sscm.org/event/world-day-of-consecrated-life-2/
CATEGORIES:General Events 2025-2026
END:VEVENT
BEGIN:VEVENT
DTSTART;VALUE=DATE:20260126
DTEND;VALUE=DATE:20260131
DTSTAMP:20260423T071011
CREATED:20251010T142123Z
LAST-MODIFIED:20251010T142123Z
UID:37687-1769385600-1769817599@sscm.org
SUMMARY:Catholic Schools Week
DESCRIPTION:
URL:https://sscm.org/event/catholic-schools-week/
CATEGORIES:General Events 2025-2026
END:VEVENT
BEGIN:VEVENT
DTSTART;VALUE=DATE:20260119
DTEND;VALUE=DATE:20260120
DTSTAMP:20260423T071011
CREATED:20251010T142048Z
LAST-MODIFIED:20251010T142048Z
UID:37684-1768780800-1768867199@sscm.org
SUMMARY:Martin Luther King\, Jr. Day
DESCRIPTION:
URL:https://sscm.org/event/martin-luther-king-jr-day/
CATEGORIES:General Events 2025-2026
END:VEVENT
BEGIN:VEVENT
DTSTART;TZID=America/New_York:20260118T140000
DTEND;TZID=America/New_York:20260118T150000
DTSTAMP:20260423T071011
CREATED:20251010T142018Z
LAST-MODIFIED:20251010T142018Z
UID:37681-1768744800-1768748400@sscm.org
SUMMARY:Prayer for Christian Unity\, Basilica of Saints Cyril and Methodius
DESCRIPTION:
URL:https://sscm.org/event/prayer-for-christian-unity-basilica-of-saints-cyril-and-methodius/
LOCATION:Basilica
CATEGORIES:General Events 2025-2026
END:VEVENT
BEGIN:VEVENT
DTSTART;VALUE=DATE:20260118
DTEND;VALUE=DATE:20260126
DTSTAMP:20260423T071011
CREATED:20251010T141931Z
LAST-MODIFIED:20251010T141931Z
UID:37678-1768694400-1769385599@sscm.org
SUMMARY:Christian Unity Octave
DESCRIPTION:
URL:https://sscm.org/event/christian-unity-octave/
CATEGORIES:General Events 2025-2026
END:VEVENT
BEGIN:VEVENT
DTSTART;VALUE=DATE:20260101
DTEND;VALUE=DATE:20260104
DTSTAMP:20260423T071011
CREATED:20251010T142208Z
LAST-MODIFIED:20251010T142208Z
UID:37690-1767225600-1767484799@sscm.org
SUMMARY:Eucharistic Devotions\, Danville
DESCRIPTION:
URL:https://sscm.org/event/eucharistic-devotions-danville/
CATEGORIES:General Events 2025-2026
END:VEVENT
BEGIN:VEVENT
DTSTART;VALUE=DATE:20260101
DTEND;VALUE=DATE:20260102
DTSTAMP:20260423T071011
CREATED:20251010T141843Z
LAST-MODIFIED:20251010T141843Z
UID:37675-1767225600-1767311999@sscm.org
SUMMARY:New Year’s Day - Solemnity of Mary
DESCRIPTION:
URL:https://sscm.org/event/new-years-day-solemnity-of-mary/
CATEGORIES:General Events 2025-2026
END:VEVENT
BEGIN:VEVENT
DTSTART;VALUE=DATE:20251225
DTEND;VALUE=DATE:20251226
DTSTAMP:20260423T071011
CREATED:20251010T141813Z
LAST-MODIFIED:20251010T141813Z
UID:37672-1766620800-1766707199@sscm.org
SUMMARY:Christmas
DESCRIPTION:
URL:https://sscm.org/event/christmas/
CATEGORIES:General Events 2025-2026
END:VEVENT
BEGIN:VEVENT
DTSTART;VALUE=DATE:20251214
DTEND;VALUE=DATE:20251215
DTSTAMP:20260423T071011
CREATED:20251010T141749Z
LAST-MODIFIED:20251010T141749Z
UID:37669-1765670400-1765756799@sscm.org
SUMMARY:St. Cyril Preschool and Kindergarten Christmas Pageant
DESCRIPTION:
URL:https://sscm.org/event/st-cyril-preschool-and-kindergarten-christmas-pageant/
CATEGORIES:General Events 2025-2026
END:VEVENT
BEGIN:VEVENT
DTSTART;VALUE=DATE:20251213
DTEND;VALUE=DATE:20251214
DTSTAMP:20260423T071011
CREATED:20251010T141726Z
LAST-MODIFIED:20251010T141726Z
UID:37666-1765584000-1765670399@sscm.org
SUMMARY:Spiritual Center Advent Retreat Day
DESCRIPTION:
URL:https://sscm.org/event/spiritual-center-advent-retreat-day/
CATEGORIES:General Events 2025-2026
END:VEVENT
BEGIN:VEVENT
DTSTART;VALUE=DATE:20251212
DTEND;VALUE=DATE:20251213
DTSTAMP:20260423T071011
CREATED:20251010T141705Z
LAST-MODIFIED:20251010T141705Z
UID:37663-1765497600-1765583999@sscm.org
SUMMARY:St. Cyril Preschool and Kindergarten\, Santa Express
DESCRIPTION:
URL:https://sscm.org/event/st-cyril-preschool-and-kindergarten-santa-express/
CATEGORIES:General Events 2025-2026
END:VEVENT
BEGIN:VEVENT
DTSTART;TZID=America/New_York:20251207T163000
DTEND;TZID=America/New_York:20251207T170000
DTSTAMP:20260423T071011
CREATED:20251010T141631Z
LAST-MODIFIED:20251010T141631Z
UID:37657-1765125000-1765126800@sscm.org
SUMMARY:Prayer Outside the Walls
DESCRIPTION:
URL:https://sscm.org/event/prayer-outside-the-walls/
LOCATION:Villa Sacred Heart\, Danville
CATEGORIES:General Events 2025-2026
END:VEVENT
BEGIN:VEVENT
DTSTART;VALUE=DATE:20251206
DTEND;VALUE=DATE:20251207
DTSTAMP:20260423T071011
CREATED:20251010T141200Z
LAST-MODIFIED:20251010T141200Z
UID:37654-1764979200-1765065599@sscm.org
SUMMARY:Feast of St. Nicholas Queen of the Most Holy Rosary Christmas Bazaar
DESCRIPTION:
URL:https://sscm.org/event/feast-of-st-nicholas-queen-of-the-most-holy-rosary-christmas-bazaar/
CATEGORIES:General Events 2025-2026
END:VEVENT
BEGIN:VEVENT
DTSTART;VALUE=DATE:20251127
DTEND;VALUE=DATE:20251128
DTSTAMP:20260423T071011
CREATED:20251010T141103Z
LAST-MODIFIED:20251010T141103Z
UID:37651-1764201600-1764287999@sscm.org
SUMMARY:Thanksgiving Day
DESCRIPTION:
URL:https://sscm.org/event/thanksgiving-day/
CATEGORIES:General Events 2025-2026
END:VEVENT
BEGIN:VEVENT
DTSTART;VALUE=DATE:20251112
DTEND;VALUE=DATE:20251113
DTSTAMP:20260423T071011
CREATED:20251010T141024Z
LAST-MODIFIED:20251010T141024Z
UID:37648-1762905600-1762991999@sscm.org
SUMMARY:St. Cyril Preschool and Kindergarten Thanksgiving Dinner
DESCRIPTION:
URL:https://sscm.org/event/st-cyril-preschool-and-kindergarten-thanksgiving-dinner/
LOCATION:Villa Sacred Heart\, Danville
CATEGORIES:General Events 2025-2026
END:VEVENT
BEGIN:VEVENT
DTSTART;VALUE=DATE:20251108
DTEND;VALUE=DATE:20251109
DTSTAMP:20260423T071011
CREATED:20251010T140931Z
LAST-MODIFIED:20251010T140931Z
UID:37645-1762560000-1762646399@sscm.org
SUMMARY:St. Cyril Preschool and Kindergarten Basket Bonanza
DESCRIPTION:
URL:https://sscm.org/event/st-cyril-preschool-and-kindergarten-basket-bonanza/
CATEGORIES:General Events 2025-2026
END:VEVENT
BEGIN:VEVENT
DTSTART;VALUE=DATE:20251102
DTEND;VALUE=DATE:20251103
DTSTAMP:20260423T071011
CREATED:20251010T122635Z
LAST-MODIFIED:20251010T122645Z
UID:37642-1762041600-1762127999@sscm.org
SUMMARY:Daylight Saving Time ends - Fall back
DESCRIPTION:
URL:https://sscm.org/event/daylight-saving-time-ends-fall-back/
CATEGORIES:General Events 2025-2026
END:VEVENT
BEGIN:VEVENT
DTSTART;TZID=America/New_York:20251031T100000
DTEND;TZID=America/New_York:20251031T110000
DTSTAMP:20260423T071011
CREATED:20251010T122424Z
LAST-MODIFIED:20251010T122541Z
UID:37638-1761904800-1761908400@sscm.org
SUMMARY:St. Cyril Preschool and Kindergarten Halloween at Maria Hall
DESCRIPTION:
URL:https://sscm.org/event/lcwr-region-3-meeting/
CATEGORIES:General Events 2025-2026
END:VEVENT
BEGIN:VEVENT
DTSTART;TZID=America/New_York:20251026T140000
DTEND;TZID=America/New_York:20251026T153000
DTSTAMP:20260423T071011
CREATED:20251010T122341Z
LAST-MODIFIED:20251010T122341Z
UID:37635-1761487200-1761492600@sscm.org
SUMMARY:Servant Leadership Awards
DESCRIPTION:
URL:https://sscm.org/event/servant-leadership-awards/
CATEGORIES:General Events 2025-2026
END:VEVENT
BEGIN:VEVENT
DTSTART;VALUE=DATE:20251026
DTEND;VALUE=DATE:20251027
DTSTAMP:20260423T071011
CREATED:20251010T122235Z
LAST-MODIFIED:20251010T122235Z
UID:37632-1761436800-1761523199@sscm.org
SUMMARY:Danville Jubilee Kitchen
DESCRIPTION:
URL:https://sscm.org/event/danville-jubilee-kitchen/
CATEGORIES:General Events 2025-2026
END:VEVENT
BEGIN:VEVENT
DTSTART;TZID=America/New_York:20251024T180000
DTEND;TZID=America/New_York:20251024T190000
DTSTAMP:20260423T071011
CREATED:20251010T122117Z
LAST-MODIFIED:20251010T122136Z
UID:37628-1761328800-1761332400@sscm.org
SUMMARY:St. Cyril Preschool and Kindergarten\, Family Fun Night
DESCRIPTION:
URL:https://sscm.org/event/st-cyril-preschool-and-kindergarten-family-fun-night/
CATEGORIES:General Events 2025-2026
END:VEVENT
BEGIN:VEVENT
DTSTART;TZID=America/New_York:20251018T100000
DTEND;TZID=America/New_York:20251018T140000
DTSTAMP:20260423T071011
CREATED:20251010T120726Z
LAST-MODIFIED:20251015T112728Z
UID:37621-1760781600-1760796000@sscm.org
SUMMARY:Flea Market
DESCRIPTION:MARK YOUR CALENDARS!\nOn Saturday\, October 18th\, from 10:00 AM to 2:00 PM\, on the grounds of Villa Sacred Heart\, 1002 Railroad Street\, Danville\, PA\, the Sisters of Saints Cyril and Methodius will have a special Flea Market in the Auditorium\, PLUS a Furniture Sale\, Book Sale\, Crafts Sale and Religious Articles Sale in the Garages. See you then!
URL:https://sscm.org/event/flea-market/
LOCATION:Villa Sacred Heart\, Danville
CATEGORIES:General Events 2025-2026
END:VEVENT
BEGIN:VEVENT
DTSTART;VALUE=DATE:20251008
DTEND;VALUE=DATE:20251013
DTSTAMP:20260423T071011
CREATED:20251010T120520Z
LAST-MODIFIED:20251010T120546Z
UID:37618-1759881600-1760313599@sscm.org
SUMMARY:Global Celebration of Consecrated Life
DESCRIPTION:
URL:https://sscm.org/event/global-celebration-of-consecrated-life/
CATEGORIES:General Events 2025-2026
END:VEVENT
BEGIN:VEVENT
DTSTART;VALUE=DATE:20250712
DTEND;VALUE=DATE:20250713
DTSTAMP:20260423T071011
CREATED:20241003T184204Z
LAST-MODIFIED:20241209T200609Z
UID:33765-1752278400-1752364799@sscm.org
SUMMARY:Summer Festival
DESCRIPTION:Our annual summer festival is for all of the community to celebrate. We have a variety of games\, food vendors\, baked goods\, and so much more. If you are a vendor interested in coming to SSCM during the summer festival contact info@sscm.org. You will be redirected to our team that will help\, discuss\, and get everything you need to know about the festival. \n‎
URL:https://sscm.org/event/summer-festival-3/
CATEGORIES:Calendar 2024-2025,General Events
END:VEVENT
BEGIN:VEVENT
DTSTART;VALUE=DATE:20250705
DTEND;VALUE=DATE:20250706
DTSTAMP:20260423T071011
CREATED:20241003T183945Z
LAST-MODIFIED:20241209T200609Z
UID:33756-1751673600-1751759999@sscm.org
SUMMARY:Community Jubilee Celebration
DESCRIPTION:
URL:https://sscm.org/event/community-jubilee-celebration-2/
CATEGORIES:Calendar 2024-2025,General Events
END:VEVENT
BEGIN:VEVENT
DTSTART;VALUE=DATE:20250627
DTEND;VALUE=DATE:20250628
DTSTAMP:20260423T071011
CREATED:20241003T183627Z
LAST-MODIFIED:20241209T200609Z
UID:33752-1750982400-1751068799@sscm.org
SUMMARY:Feast of the Sacred Heart
DESCRIPTION:“Our Lord Jesus Christ desires that we should\, for sanctifying ourselves\, glorify His all-loving Heart; for it was His Heart that suffered the most in His Sacred Humanity.”  -St. Margaret Mary Alacoque
URL:https://sscm.org/event/feast-of-the-sacred-heart-3/
CATEGORIES:Calendar 2024-2025,General Events
END:VEVENT
BEGIN:VEVENT
DTSTART;VALUE=DATE:20250531
DTEND;VALUE=DATE:20250601
DTSTAMP:20260423T071011
CREATED:20241003T182955Z
LAST-MODIFIED:20241209T200609Z
UID:33749-1748649600-1748735999@sscm.org
SUMMARY:Harrisburg Diocese Sisters' Jubilee Celebration
DESCRIPTION:
URL:https://sscm.org/event/harrisburg-diocese-sisters-jubilee-celebration/
CATEGORIES:Calendar 2024-2025,General Events
END:VEVENT
BEGIN:VEVENT
DTSTART;VALUE=DATE:20250530
DTEND;VALUE=DATE:20250531
DTSTAMP:20260423T071011
CREATED:20241004T114831Z
LAST-MODIFIED:20241209T200609Z
UID:33785-1748563200-1748649599@sscm.org
SUMMARY:Graduation Day
DESCRIPTION:
URL:https://sscm.org/event/graduation-day/
CATEGORIES:Calendar 2024-2025,General Events
END:VEVENT
END:VCALENDAR