BEGIN:VCALENDAR
VERSION:2.0
PRODID:-//Sisters of Saints Cyril and Methodius - ECPv6.15.17//NONSGML v1.0//EN
CALSCALE:GREGORIAN
METHOD:PUBLISH
X-WR-CALNAME:Sisters of Saints Cyril and Methodius
X-ORIGINAL-URL:https://sscm.org
X-WR-CALDESC:Events for Sisters of Saints Cyril and Methodius
REFRESH-INTERVAL;VALUE=DURATION:PT1H
X-Robots-Tag:noindex
X-PUBLISHED-TTL:PT1H
BEGIN:VTIMEZONE
TZID:America/New_York
BEGIN:DAYLIGHT
TZOFFSETFROM:-0500
TZOFFSETTO:-0400
TZNAME:EDT
DTSTART:20230312T070000
END:DAYLIGHT
BEGIN:STANDARD
TZOFFSETFROM:-0400
TZOFFSETTO:-0500
TZNAME:EST
DTSTART:20231105T060000
END:STANDARD
BEGIN:DAYLIGHT
TZOFFSETFROM:-0500
TZOFFSETTO:-0400
TZNAME:EDT
DTSTART:20240310T070000
END:DAYLIGHT
BEGIN:STANDARD
TZOFFSETFROM:-0400
TZOFFSETTO:-0500
TZNAME:EST
DTSTART:20241103T060000
END:STANDARD
BEGIN:DAYLIGHT
TZOFFSETFROM:-0500
TZOFFSETTO:-0400
TZNAME:EDT
DTSTART:20250309T070000
END:DAYLIGHT
BEGIN:STANDARD
TZOFFSETFROM:-0400
TZOFFSETTO:-0500
TZNAME:EST
DTSTART:20251102T060000
END:STANDARD
BEGIN:DAYLIGHT
TZOFFSETFROM:-0500
TZOFFSETTO:-0400
TZNAME:EDT
DTSTART:20260308T070000
END:DAYLIGHT
BEGIN:STANDARD
TZOFFSETFROM:-0400
TZOFFSETTO:-0500
TZNAME:EST
DTSTART:20261101T060000
END:STANDARD
END:VTIMEZONE
BEGIN:VEVENT
DTSTART;VALUE=DATE:20250305
DTEND;VALUE=DATE:20250306
DTSTAMP:20260423T180743
CREATED:20241003T130208Z
LAST-MODIFIED:20250217T134102Z
UID:33701-1741132800-1741219199@sscm.org
SUMMARY:Ash Wednesday
DESCRIPTION:
URL:https://sscm.org/event/ash-wednesday-3/
CATEGORIES:Calendar 2024-2025,General Events
END:VEVENT
BEGIN:VEVENT
DTSTART;VALUE=DATE:20250221
DTEND;VALUE=DATE:20250222
DTSTAMP:20260423T180743
CREATED:20241003T125617Z
LAST-MODIFIED:20250212T152750Z
UID:33697-1740096000-1740182399@sscm.org
SUMMARY:Meadows Mystery Theater
DESCRIPTION:Join us for a thrilling Family Feud: Murder Mystery Dinner Fundraiser\, in partnership with Stone State Entertainment! Enjoy an evening of laughter\, rivalry\, and suspense as you step into a high-stakes family game show—where one contestant meets a grim fate. While participation isn’t required\, guests can search for clues\, question suspects\, and try to unmask the murderer before they strike again. \nThe night includes killer appetizers\, a delicious dinner\, and free wine and beer (while supplies last). Proceeds benefit the roof replacement for Maria Joseph Manor\, making it a fun night for a great cause. \n📅 Date & Time:  February 21st\, 2025 \nDoors open at 5:00 p.m. \n🎟 Tickets: $60 (includes food\, drinks & show)📩 Contact: Dawn Orzehowski – dorzehowski@mariajosephccc.org or 570-898-7876 \nSeats are limited—get your tickets now!
URL:https://sscm.org/event/meadows-mystery-theater/
CATEGORIES:Calendar 2024-2025,General Events
END:VEVENT
BEGIN:VEVENT
DTSTART;VALUE=DATE:20250214
DTEND;VALUE=DATE:20250215
DTSTAMP:20260423T180743
CREATED:20241003T125104Z
LAST-MODIFIED:20241209T200610Z
UID:33694-1739491200-1739577599@sscm.org
SUMMARY:Feast of Saints Cyril and Methodius
DESCRIPTION:“I return to You\, Your people\, Your gift to me. Direct them with Your powerful right hand\, and protect them under the shadow of Your wings.” -Saint Cyril
URL:https://sscm.org/event/feast-of-saints-cyril-and-methodius-2/
CATEGORIES:Calendar 2024-2025,General Events
END:VEVENT
BEGIN:VEVENT
DTSTART;VALUE=DATE:20250202
DTEND;VALUE=DATE:20250203
DTSTAMP:20260423T180743
CREATED:20241003T124558Z
LAST-MODIFIED:20241209T200610Z
UID:33689-1738454400-1738540799@sscm.org
SUMMARY:World Day of Consecrated Life
DESCRIPTION:“May the World Day of Consecrated Life be a timely occasion to rediscover the centrality of Jesus in our lives.” \n-Pope Francis
URL:https://sscm.org/event/world-day-of-consecrated-life/
CATEGORIES:Calendar 2024-2025,General Events
END:VEVENT
BEGIN:VEVENT
DTSTART;VALUE=DATE:20250126
DTEND;VALUE=DATE:20250201
DTSTAMP:20260423T180743
CREATED:20241003T124012Z
LAST-MODIFIED:20241209T200610Z
UID:33685-1737849600-1738367999@sscm.org
SUMMARY:Catholic Schools Week
DESCRIPTION:
URL:https://sscm.org/event/catholic-schools-week-3/
CATEGORIES:Calendar 2024-2025,General Events
END:VEVENT
BEGIN:VEVENT
DTSTART;VALUE=DATE:20250120
DTEND;VALUE=DATE:20250121
DTSTAMP:20260423T180743
CREATED:20241003T123558Z
LAST-MODIFIED:20241209T200629Z
UID:33681-1737331200-1737417599@sscm.org
SUMMARY:Martin Luther King\, Jr. Day
DESCRIPTION:“In the midst of outer dangers I have felt an inner calm and known resources of strength that only God could give. In many instances I have felt the power of God transforming the fatigue of despair into the buoyancy of hope.” – Martin Luther King\, Jr
URL:https://sscm.org/event/martin-luther-king-jr-day-2/
CATEGORIES:Calendar 2024-2025,General Events
END:VEVENT
BEGIN:VEVENT
DTSTART;TZID=America/New_York:20250119T140000
DTEND;TZID=America/New_York:20250119T150000
DTSTAMP:20260423T180743
CREATED:20241003T122949Z
LAST-MODIFIED:20241209T200629Z
UID:33678-1737295200-1737298800@sscm.org
SUMMARY:Prayer for Christian Unity
DESCRIPTION:“God of life\, You have created us to have life\, and life in all its fullness. May we recognize in our brothers and sisters their desire for eternal life. As we follow Jesus’ way with determination\, may we lead others to you. We pray in his name. Amen.”
URL:https://sscm.org/event/prayer-for-christian-unity/
CATEGORIES:Calendar 2024-2025,General Events
END:VEVENT
BEGIN:VEVENT
DTSTART;VALUE=DATE:20250108
DTEND;VALUE=DATE:20250109
DTSTAMP:20260423T180743
CREATED:20241003T130614Z
LAST-MODIFIED:20241209T200629Z
UID:33709-1736294400-1736380799@sscm.org
SUMMARY:Lenten Reflection Day
DESCRIPTION:Lent Prayer\n“Dear God\, I confess I may not fully understand Lent’s “how” and “why”. I ask you to speak to me now. In the quiet aloneness of my time with you\, search me for any selfish motives or sins I cling to that are sapping me of the life you desire. Prepare my heart for what you would have me forgo\, and strengthen me to seek you instead. Wake me\, Lord\, if I am blind to my patterns of self-destruction. Show me what it is that I can live more fully without. In Jesus’ name\, Amen.”
URL:https://sscm.org/event/lenten-reflection-day/
CATEGORIES:Calendar 2024-2025,General Events
END:VEVENT
BEGIN:VEVENT
DTSTART;VALUE=DATE:20241225
DTEND;VALUE=DATE:20241226
DTSTAMP:20260423T180743
CREATED:20241209T142345Z
LAST-MODIFIED:20241209T200629Z
UID:34398-1735084800-1735171199@sscm.org
SUMMARY:Christmas Day
DESCRIPTION:“A little child\, a shining star\, a stable rude\, the door ajar. Yet in that place\, so crude\, forlorn\, the Hope of all the world was born.” 
URL:https://sscm.org/event/christmas-day/
CATEGORIES:Calendar 2024-2025,General Events
END:VEVENT
BEGIN:VEVENT
DTSTART;VALUE=DATE:20241224
DTEND;VALUE=DATE:20241225
DTSTAMP:20260423T180743
CREATED:20241002T191053Z
LAST-MODIFIED:20241209T200629Z
UID:33659-1734998400-1735084799@sscm.org
SUMMARY:Holy Year of Hope begins
DESCRIPTION:  \n \n“Be pilgrims of hope and builders of peace” -Pope Francis \n  \n 
URL:https://sscm.org/event/holy-year-of-hope-begins/
CATEGORIES:Calendar 2024-2025,General Events
END:VEVENT
BEGIN:VEVENT
DTSTART;TZID=America/New_York:20241215T163000
DTEND;TZID=America/New_York:20241215T180000
DTSTAMP:20260423T180743
CREATED:20241002T185831Z
LAST-MODIFIED:20241209T200629Z
UID:33656-1734280200-1734285600@sscm.org
SUMMARY:Prayer Outside the Walls
DESCRIPTION:
URL:https://sscm.org/event/prayer-outside-the-walls-3/
CATEGORIES:Calendar 2024-2025,General Events
END:VEVENT
BEGIN:VEVENT
DTSTART;VALUE=DATE:20241214
DTEND;VALUE=DATE:20241215
DTSTAMP:20260423T180743
CREATED:20241002T185202Z
LAST-MODIFIED:20241209T200629Z
UID:33648-1734134400-1734220799@sscm.org
SUMMARY:Day of Reflection
DESCRIPTION: “Dear Lord\, please allow me to embrace Advent in the way the Church intends: as a way to prepare for Your arrival. May everything I do–every gift I send\, every party I attend\, every meal I share–remind me to prepare space in my heart for You. Amen.” \n \n  \n 
URL:https://sscm.org/event/day-of-reflection/
CATEGORIES:Calendar 2024-2025,General Events
END:VEVENT
END:VCALENDAR