BEGIN:VCALENDAR
VERSION:2.0
PRODID:-//Sisters of Saints Cyril and Methodius - ECPv6.15.17//NONSGML v1.0//EN
CALSCALE:GREGORIAN
METHOD:PUBLISH
X-WR-CALNAME:Sisters of Saints Cyril and Methodius
X-ORIGINAL-URL:https://sscm.org
X-WR-CALDESC:Events for Sisters of Saints Cyril and Methodius
REFRESH-INTERVAL;VALUE=DURATION:PT1H
X-Robots-Tag:noindex
X-PUBLISHED-TTL:PT1H
BEGIN:VTIMEZONE
TZID:America/New_York
BEGIN:DAYLIGHT
TZOFFSETFROM:-0500
TZOFFSETTO:-0400
TZNAME:EDT
DTSTART:20230312T070000
END:DAYLIGHT
BEGIN:STANDARD
TZOFFSETFROM:-0400
TZOFFSETTO:-0500
TZNAME:EST
DTSTART:20231105T060000
END:STANDARD
BEGIN:DAYLIGHT
TZOFFSETFROM:-0500
TZOFFSETTO:-0400
TZNAME:EDT
DTSTART:20240310T070000
END:DAYLIGHT
BEGIN:STANDARD
TZOFFSETFROM:-0400
TZOFFSETTO:-0500
TZNAME:EST
DTSTART:20241103T060000
END:STANDARD
BEGIN:DAYLIGHT
TZOFFSETFROM:-0500
TZOFFSETTO:-0400
TZNAME:EDT
DTSTART:20250309T070000
END:DAYLIGHT
BEGIN:STANDARD
TZOFFSETFROM:-0400
TZOFFSETTO:-0500
TZNAME:EST
DTSTART:20251102T060000
END:STANDARD
END:VTIMEZONE
BEGIN:VEVENT
DTSTART;VALUE=DATE:20241214
DTEND;VALUE=DATE:20241215
DTSTAMP:20260423T071011
CREATED:20241002T185202Z
LAST-MODIFIED:20241209T200629Z
UID:33648-1734134400-1734220799@sscm.org
SUMMARY:Day of Reflection
DESCRIPTION: “Dear Lord\, please allow me to embrace Advent in the way the Church intends: as a way to prepare for Your arrival. May everything I do–every gift I send\, every party I attend\, every meal I share–remind me to prepare space in my heart for You. Amen.” \n \n  \n 
URL:https://sscm.org/event/day-of-reflection/
CATEGORIES:Calendar 2024-2025,General Events
END:VEVENT
END:VCALENDAR