BEGIN:VCALENDAR
VERSION:2.0
PRODID:-//Sisters of Saints Cyril and Methodius - ECPv6.15.17//NONSGML v1.0//EN
CALSCALE:GREGORIAN
METHOD:PUBLISH
X-WR-CALNAME:Sisters of Saints Cyril and Methodius
X-ORIGINAL-URL:https://sscm.org
X-WR-CALDESC:Events for Sisters of Saints Cyril and Methodius
REFRESH-INTERVAL;VALUE=DURATION:PT1H
X-Robots-Tag:noindex
X-PUBLISHED-TTL:PT1H
BEGIN:VTIMEZONE
TZID:America/New_York
BEGIN:DAYLIGHT
TZOFFSETFROM:-0500
TZOFFSETTO:-0400
TZNAME:EDT
DTSTART:20240310T070000
END:DAYLIGHT
BEGIN:STANDARD
TZOFFSETFROM:-0400
TZOFFSETTO:-0500
TZNAME:EST
DTSTART:20241103T060000
END:STANDARD
BEGIN:DAYLIGHT
TZOFFSETFROM:-0500
TZOFFSETTO:-0400
TZNAME:EDT
DTSTART:20250309T070000
END:DAYLIGHT
BEGIN:STANDARD
TZOFFSETFROM:-0400
TZOFFSETTO:-0500
TZNAME:EST
DTSTART:20251102T060000
END:STANDARD
BEGIN:DAYLIGHT
TZOFFSETFROM:-0500
TZOFFSETTO:-0400
TZNAME:EDT
DTSTART:20260308T070000
END:DAYLIGHT
BEGIN:STANDARD
TZOFFSETFROM:-0400
TZOFFSETTO:-0500
TZNAME:EST
DTSTART:20261101T060000
END:STANDARD
END:VTIMEZONE
BEGIN:VEVENT
DTSTART;VALUE=DATE:20250511
DTEND;VALUE=DATE:20250512
DTSTAMP:20260423T175730
CREATED:20241003T170613Z
LAST-MODIFIED:20241209T200610Z
UID:33737-1746921600-1747007999@sscm.org
SUMMARY:Mother's Day
DESCRIPTION:“A mother is the most important person on earth. She cannot claim the honor of having built Notre Dame Cathedral. She need not. She has built something more magnificent than any Cathedral — a dwelling for an immortal soul\, the tiny perfection of her baby’s body.” – József Mindszenty
URL:https://sscm.org/event/mothers-day-3/
CATEGORIES:Calendar 2024-2025,General Events
END:VEVENT
BEGIN:VEVENT
DTSTART;VALUE=DATE:20250526
DTEND;VALUE=DATE:20250527
DTSTAMP:20260423T175730
CREATED:20241003T172849Z
LAST-MODIFIED:20241209T200610Z
UID:33742-1748217600-1748303999@sscm.org
SUMMARY:Memorial Day
DESCRIPTION:“Greater love has no one than this\, that he lay down his life for his friends.”  -John 15:13
URL:https://sscm.org/event/memorial-day-3/
CATEGORIES:Calendar 2024-2025,General Events
END:VEVENT
BEGIN:VEVENT
DTSTART;VALUE=DATE:20250528
DTEND;VALUE=DATE:20250529
DTSTAMP:20260423T175730
CREATED:20241004T113259Z
LAST-MODIFIED:20241209T200610Z
UID:33777-1748390400-1748476799@sscm.org
SUMMARY:Lollipop Day
DESCRIPTION:Click here to watch the livestream
URL:https://sscm.org/event/lollipop-day/
CATEGORIES:Calendar 2024-2025,General Events
END:VEVENT
BEGIN:VEVENT
DTSTART;VALUE=DATE:20250529
DTEND;VALUE=DATE:20250530
DTSTAMP:20260423T175730
CREATED:20241004T114357Z
LAST-MODIFIED:20241209T200609Z
UID:33781-1748476800-1748563199@sscm.org
SUMMARY:Certificate Day
DESCRIPTION:
URL:https://sscm.org/event/certificate-day/
CATEGORIES:Calendar 2024-2025,General Events
END:VEVENT
BEGIN:VEVENT
DTSTART;VALUE=DATE:20250530
DTEND;VALUE=DATE:20250531
DTSTAMP:20260423T175730
CREATED:20241004T114831Z
LAST-MODIFIED:20241209T200609Z
UID:33785-1748563200-1748649599@sscm.org
SUMMARY:Graduation Day
DESCRIPTION:
URL:https://sscm.org/event/graduation-day/
CATEGORIES:Calendar 2024-2025,General Events
END:VEVENT
BEGIN:VEVENT
DTSTART;VALUE=DATE:20250531
DTEND;VALUE=DATE:20250601
DTSTAMP:20260423T175730
CREATED:20241003T182955Z
LAST-MODIFIED:20241209T200609Z
UID:33749-1748649600-1748735999@sscm.org
SUMMARY:Harrisburg Diocese Sisters' Jubilee Celebration
DESCRIPTION:
URL:https://sscm.org/event/harrisburg-diocese-sisters-jubilee-celebration/
CATEGORIES:Calendar 2024-2025,General Events
END:VEVENT
END:VCALENDAR