BEGIN:VCALENDAR
VERSION:2.0
PRODID:spatie/icalendar-generator
DESCRIPTION:Events from Sisters of Saints Cyril and Methodius
X-WR-CALDESC:Events from Sisters of Saints Cyril and Methodius
REFRESH-INTERVAL;VALUE=DURATION:PT1440M
X-PUBLISHED-TTL:PT1440M
BEGIN:VTIMEZONE
TZID:America/New_York
BEGIN:STANDARD
DTSTART:20251102T020000Z
TZOFFSETFROM:-0400
TZOFFSETTO:-0500
END:STANDARD
BEGIN:DAYLIGHT
DTSTART:20260308T020000Z
TZOFFSETFROM:-0500
TZOFFSETTO:-0400
END:DAYLIGHT
END:VTIMEZONE
BEGIN:VTIMEZONE
TZID:UTC
BEGIN:STANDARD
DTSTART:20250727T041308Z
TZOFFSETFROM:+0000
TZOFFSETTO:+0000
END:STANDARD
END:VTIMEZONE
BEGIN:VEVENT
UID:187-164
DTSTAMP:20260423T041308Z
SUMMARY:Sports Day
LOCATION:
ORGANIZER;CN=Garrett loyd:MAILTO:GLoyd@sscm.org
DTSTART;TZID=America/New_York;VALUE=DATE:20260415
DTEND;TZID=America/New_York;VALUE=DATE:20260416
X-ALT-DESC;FMTTYPE=TEXT/HTML:
CATEGORIES:Spirit Days,  St. Cyril Preschool &amp; Kindergarten 2025-2026 Schoo
 l Calendar
URL;VALUE=URI:https://sscm.org/mc-events/sports-day-2/
METHOD:PUBLISH
END:VEVENT
END:VCALENDAR